BEGIN:VCALENDAR
VERSION:2.0
PRODID:-//Käerjeng - ECPv6.15.17.1//NONSGML v1.0//EN
CALSCALE:GREGORIAN
METHOD:PUBLISH
X-ORIGINAL-URL:https://www.kaerjeng.lu
X-WR-CALDESC:Évènements pour Käerjeng
REFRESH-INTERVAL;VALUE=DURATION:PT1H
X-Robots-Tag:noindex
X-PUBLISHED-TTL:PT1H
BEGIN:VTIMEZONE
TZID:Europe/Luxembourg
BEGIN:DAYLIGHT
TZOFFSETFROM:+0100
TZOFFSETTO:+0200
TZNAME:CEST
DTSTART:20210328T010000
END:DAYLIGHT
BEGIN:STANDARD
TZOFFSETFROM:+0200
TZOFFSETTO:+0100
TZNAME:CET
DTSTART:20211031T010000
END:STANDARD
BEGIN:DAYLIGHT
TZOFFSETFROM:+0100
TZOFFSETTO:+0200
TZNAME:CEST
DTSTART:20220327T010000
END:DAYLIGHT
BEGIN:STANDARD
TZOFFSETFROM:+0200
TZOFFSETTO:+0100
TZNAME:CET
DTSTART:20221030T010000
END:STANDARD
BEGIN:DAYLIGHT
TZOFFSETFROM:+0100
TZOFFSETTO:+0200
TZNAME:CEST
DTSTART:20230326T010000
END:DAYLIGHT
BEGIN:STANDARD
TZOFFSETFROM:+0200
TZOFFSETTO:+0100
TZNAME:CET
DTSTART:20231029T010000
END:STANDARD
END:VTIMEZONE
BEGIN:VEVENT
DTSTART;VALUE=DATE:20220603
DTEND;VALUE=DATE:20220607
DTSTAMP:20260422T231113
CREATED:20220420T135617Z
LAST-MODIFIED:20220420T135710Z
UID:10000839-1654214400-1654559999@www.kaerjeng.lu
SUMMARY:Kéinziger Kiermes - CDJ Kënzeg
DESCRIPTION:
URL:https://www.kaerjeng.lu/evenement/kenzeger-kiermes-cdj-kenzeg/
LOCATION:Clemency – Place de la Gare
CATEGORIES:Agenda
ATTACH;FMTTYPE=image/jpeg:https://www.kaerjeng.lu/wp-content/uploads/2022/04/Keinziger-Kiermes-2022.jpg
END:VEVENT
BEGIN:VEVENT
DTSTART;TZID=Europe/Luxembourg:20220604T093000
DTEND;TZID=Europe/Luxembourg:20220604T120000
DTSTAMP:20260422T231113
CREATED:20220420T135914Z
LAST-MODIFIED:20220420T135914Z
UID:10000841-1654335000-1654344000@www.kaerjeng.lu
SUMMARY:Hämmelsmarch - Harmonie Clemency
DESCRIPTION:
URL:https://www.kaerjeng.lu/evenement/hammelsmarch-harmonie-clemency-2/
LOCATION:Clemency
CATEGORIES:Agenda
ATTACH;FMTTYPE=image/jpeg:https://www.kaerjeng.lu/wp-content/uploads/2020/10/event.jpg
END:VEVENT
BEGIN:VEVENT
DTSTART;TZID=Europe/Luxembourg:20220604T120000
DTEND;TZID=Europe/Luxembourg:20220604T230000
DTSTAMP:20260422T231113
CREATED:20220525T144210Z
LAST-MODIFIED:20220525T144325Z
UID:10000846-1654344000-1654383600@www.kaerjeng.lu
SUMMARY:Pioschwarm - Käerjenger CaraPio
DESCRIPTION:
URL:https://www.kaerjeng.lu/evenement/pioschwarm-kaerjenger-carapio/
LOCATION:Clemency – Place de la Gare
CATEGORIES:Agenda
END:VEVENT
END:VCALENDAR