BEGIN:VCALENDAR
VERSION:2.0
PRODID:-//Käerjeng - ECPv6.15.17.1//NONSGML v1.0//EN
CALSCALE:GREGORIAN
METHOD:PUBLISH
X-WR-CALNAME:Käerjeng
X-ORIGINAL-URL:https://www.kaerjeng.lu
X-WR-CALDESC:Évènements pour Käerjeng
REFRESH-INTERVAL;VALUE=DURATION:PT1H
X-Robots-Tag:noindex
X-PUBLISHED-TTL:PT1H
BEGIN:VTIMEZONE
TZID:Europe/Luxembourg
BEGIN:DAYLIGHT
TZOFFSETFROM:+0100
TZOFFSETTO:+0200
TZNAME:CEST
DTSTART:20210328T010000
END:DAYLIGHT
BEGIN:STANDARD
TZOFFSETFROM:+0200
TZOFFSETTO:+0100
TZNAME:CET
DTSTART:20211031T010000
END:STANDARD
BEGIN:DAYLIGHT
TZOFFSETFROM:+0100
TZOFFSETTO:+0200
TZNAME:CEST
DTSTART:20220327T010000
END:DAYLIGHT
BEGIN:STANDARD
TZOFFSETFROM:+0200
TZOFFSETTO:+0100
TZNAME:CET
DTSTART:20221030T010000
END:STANDARD
BEGIN:DAYLIGHT
TZOFFSETFROM:+0100
TZOFFSETTO:+0200
TZNAME:CEST
DTSTART:20230326T010000
END:DAYLIGHT
BEGIN:STANDARD
TZOFFSETFROM:+0200
TZOFFSETTO:+0100
TZNAME:CET
DTSTART:20231029T010000
END:STANDARD
END:VTIMEZONE
BEGIN:VEVENT
DTSTART;VALUE=DATE:20220930
DTEND;VALUE=DATE:20221003
DTSTAMP:20260422T221602
CREATED:20220718T074655Z
LAST-MODIFIED:20220926T102720Z
UID:10001011-1664496000-1664755199@www.kaerjeng.lu
SUMMARY:Au goût du terroir - Esch2022
DESCRIPTION:
URL:https://www.kaerjeng.lu/evenement/au-gout-du-terroir-esch2022/
LOCATION:Käerjenger Treff\, 54c\, avenue de Luxembourg\, Bascharage\, Luxembourg
CATEGORIES:Agenda
ATTACH;FMTTYPE=image/jpeg:https://www.kaerjeng.lu/wp-content/uploads/2022/09/Afficheur.jpg
END:VEVENT
BEGIN:VEVENT
DTSTART;TZID=Europe/Luxembourg:20221001T100000
DTEND;TZID=Europe/Luxembourg:20221001T150000
DTSTAMP:20260422T221602
CREATED:20220926T103149Z
LAST-MODIFIED:20220926T103149Z
UID:10001034-1664618400-1664636400@www.kaerjeng.lu
SUMMARY:Vizfëst - Gaart an Heem Uewerkäerjeng
DESCRIPTION:
URL:https://www.kaerjeng.lu/evenement/vizfest-gaart-an-heem-uewerkaerjeng/
LOCATION:2\, rue de l’Ecole – Hautcharage
CATEGORIES:Agenda
ATTACH;FMTTYPE=image/jpeg:https://www.kaerjeng.lu/wp-content/uploads/2022/09/Vizfest_221001-Flyer-f.jpg
END:VEVENT
BEGIN:VEVENT
DTSTART;VALUE=DATE:20221007
DTEND;VALUE=DATE:20221008
DTSTAMP:20260422T221602
CREATED:20220718T074820Z
LAST-MODIFIED:20220926T102700Z
UID:10001012-1665100800-1665187199@www.kaerjeng.lu
SUMMARY:Béierfest - Käerjenger Karneval Gesellschaft
DESCRIPTION:
URL:https://www.kaerjeng.lu/evenement/beierfest-kaerjenger-karneval-gesellschaft/
LOCATION:Bascharage – Brauerei
CATEGORIES:Agenda
ATTACH;FMTTYPE=image/jpeg:https://www.kaerjeng.lu/wp-content/uploads/2022/09/Beierfest-2022-KKG.jpg
END:VEVENT
BEGIN:VEVENT
DTSTART;TZID=Europe/Luxembourg:20221008T140000
DTEND;TZID=Europe/Luxembourg:20221008T170000
DTSTAMP:20260422T221602
CREATED:20220914T145117Z
LAST-MODIFIED:20220914T145117Z
UID:10000874-1665237600-1665248400@www.kaerjeng.lu
SUMMARY:Hämmelsmarsch - Harmonie Kéinzig
DESCRIPTION:
URL:https://www.kaerjeng.lu/evenement/hammelsmarsch-harmonie-keinzig/
LOCATION:Fingig
CATEGORIES:Agenda
ATTACH;FMTTYPE=image/jpeg:https://www.kaerjeng.lu/wp-content/uploads/2020/10/event.jpg
END:VEVENT
BEGIN:VEVENT
DTSTART;TZID=Europe/Luxembourg:20221009T090000
DTEND;TZID=Europe/Luxembourg:20221009T130000
DTSTAMP:20260422T221602
CREATED:20220914T145550Z
LAST-MODIFIED:20220914T145550Z
UID:10000878-1665306000-1665320400@www.kaerjeng.lu
SUMMARY:Nationalen Erënnerungsdag
DESCRIPTION:
URL:https://www.kaerjeng.lu/evenement/nationalen-erennerungsdag-2/
LOCATION:Clemency – Eglise
CATEGORIES:Agenda
ATTACH;FMTTYPE=image/jpeg:https://www.kaerjeng.lu/wp-content/uploads/2020/10/event.jpg
END:VEVENT
BEGIN:VEVENT
DTSTART;TZID=Europe/Luxembourg:20221009T110000
DTEND;TZID=Europe/Luxembourg:20221009T160000
DTSTAMP:20260422T221602
CREATED:20220914T145220Z
LAST-MODIFIED:20221005T073403Z
UID:10000876-1665313200-1665331200@www.kaerjeng.lu
SUMMARY:Rousefest - LSAP Käerjeng
DESCRIPTION:
URL:https://www.kaerjeng.lu/evenement/grillfest-lsap-gemeng-kaerjeng/
LOCATION:Käerjenger Treff\, 54c\, avenue de Luxembourg\, Bascharage\, Luxembourg
CATEGORIES:Agenda
END:VEVENT
BEGIN:VEVENT
DTSTART;TZID=Europe/Luxembourg:20221016T100000
DTEND;TZID=Europe/Luxembourg:20221016T180000
DTSTAMP:20260422T221602
CREATED:20220718T075056Z
LAST-MODIFIED:20221005T074454Z
UID:10001013-1665914400-1665943200@www.kaerjeng.lu
SUMMARY:KonschtTreff  - Kulturkommissioun
DESCRIPTION:
URL:https://www.kaerjeng.lu/evenement/konschttreff-kulturkommissioun/
LOCATION:Käerjenger Treff\, 54c\, avenue de Luxembourg\, Bascharage\, Luxembourg
CATEGORIES:Agenda
END:VEVENT
BEGIN:VEVENT
DTSTART;TZID=Europe/Luxembourg:20221016T100000
DTEND;TZID=Europe/Luxembourg:20221016T220000
DTSTAMP:20260422T221602
CREATED:20220718T075146Z
LAST-MODIFIED:20220718T075146Z
UID:10001014-1665914400-1665957600@www.kaerjeng.lu
SUMMARY:Lénger Kiermes - DT Lénger
DESCRIPTION:
URL:https://www.kaerjeng.lu/evenement/lenger-kiermes-dt-lenger-2/
LOCATION:Linger – Hall sportif
CATEGORIES:Agenda
ATTACH;FMTTYPE=image/jpeg:https://www.kaerjeng.lu/wp-content/uploads/2020/10/event.jpg
END:VEVENT
BEGIN:VEVENT
DTSTART;TZID=Europe/Luxembourg:20221019T173000
DTEND;TZID=Europe/Luxembourg:20221019T200000
DTSTAMP:20260422T221602
CREATED:20220920T074111Z
LAST-MODIFIED:20220920T074111Z
UID:10000879-1666200600-1666209600@www.kaerjeng.lu
SUMMARY:Villages Fleuris 2022 - Gaart an Heem Uewerkäerjeng
DESCRIPTION:
URL:https://www.kaerjeng.lu/evenement/villages-fleuris-2022-gaart-an-heem-uewerkaerjeng/
LOCATION:Käerjenger Treff\, 54c\, avenue de Luxembourg\, Bascharage\, Luxembourg
CATEGORIES:Agenda
ATTACH;FMTTYPE=image/jpeg:https://www.kaerjeng.lu/wp-content/uploads/2020/10/event.jpg
END:VEVENT
BEGIN:VEVENT
DTSTART;TZID=Europe/Luxembourg:20221019T180000
DTEND;TZID=Europe/Luxembourg:20221019T200000
DTSTAMP:20260422T221602
CREATED:20221018T064437Z
LAST-MODIFIED:20221018T064924Z
UID:10001035-1666202400-1666209600@www.kaerjeng.lu
SUMMARY:InfoSoirée Repair Café - Gemeng Käerjeng
DESCRIPTION:
URL:https://www.kaerjeng.lu/evenement/infosoiree-repair-cafe-gemeng-kaerjeng/
LOCATION:Bascharage – Eco Center
CATEGORIES:Agenda
ATTACH;FMTTYPE=image/jpeg:https://www.kaerjeng.lu/wp-content/uploads/2022/10/Pages-de-info-aktuell_A4_09-22_repair-cafe-BAT-2.jpg
END:VEVENT
BEGIN:VEVENT
DTSTART;TZID=Europe/Luxembourg:20221023T080000
DTEND;TZID=Europe/Luxembourg:20221023T170000
DTSTAMP:20260422T221602
CREATED:20221018T065241Z
LAST-MODIFIED:20221018T065321Z
UID:10001036-1666512000-1666544400@www.kaerjeng.lu
SUMMARY:Marche populaire  - Amis des Marcheurs Bascharage
DESCRIPTION:
URL:https://www.kaerjeng.lu/evenement/marche-populaire-amis-des-marcheurs-bascharage/
LOCATION:Käerjenger Treff\, 54c\, avenue de Luxembourg\, Bascharage\, Luxembourg
CATEGORIES:Agenda
ATTACH;FMTTYPE=image/jpeg:https://www.kaerjeng.lu/wp-content/uploads/2020/10/event.jpg
END:VEVENT
BEGIN:VEVENT
DTSTART;TZID=Europe/Luxembourg:20221027T160000
DTEND;TZID=Europe/Luxembourg:20221030T200000
DTSTAMP:20260422T221602
CREATED:20221018T125757Z
LAST-MODIFIED:20221018T130132Z
UID:10001052-1666886400-1667160000@www.kaerjeng.lu
SUMMARY:Exposition Monique Gaasch & Carole Felten-Gillen
DESCRIPTION:
URL:https://www.kaerjeng.lu/evenement/expo-monique-gaasch-carole-felten-gillen/
LOCATION:Bascharage – Centre St. Willibrord
CATEGORIES:Agenda
ATTACH;FMTTYPE=image/jpeg:https://www.kaerjeng.lu/wp-content/uploads/2020/10/event.jpg
END:VEVENT
BEGIN:VEVENT
DTSTART;TZID=Europe/Luxembourg:20221029T180000
DTEND;TZID=Europe/Luxembourg:20221029T220000
DTSTAMP:20260422T221602
CREATED:20220920T074230Z
LAST-MODIFIED:20221017T144151Z
UID:10000880-1667066400-1667080800@www.kaerjeng.lu
SUMMARY:Mullenowend - DT Féngeg
DESCRIPTION:
URL:https://www.kaerjeng.lu/evenement/mullenowend-dt-fengeg-2/
LOCATION:Fingig – Salle des Fêtes
CATEGORIES:Agenda
ATTACH;FMTTYPE=image/jpeg:https://www.kaerjeng.lu/wp-content/uploads/2022/10/Pages-de-Mullenoowend.jpg
END:VEVENT
BEGIN:VEVENT
DTSTART;TZID=Europe/Luxembourg:20221030T150000
DTEND;TZID=Europe/Luxembourg:20221030T180000
DTSTAMP:20260422T221602
CREATED:20220920T074316Z
LAST-MODIFIED:20221012T131515Z
UID:10000881-1667142000-1667152800@www.kaerjeng.lu
SUMMARY:Thé dansant - 3. Alterkommissioun
DESCRIPTION:
URL:https://www.kaerjeng.lu/evenement/the-dansant-3-alterkommissioun-2/
LOCATION:Käerjenger Treff\, 54c\, avenue de Luxembourg\, Bascharage\, Luxembourg
CATEGORIES:Agenda
ATTACH;FMTTYPE=image/jpeg:https://www.kaerjeng.lu/wp-content/uploads/2022/10/09-22_The-dansant.jpg
END:VEVENT
END:VCALENDAR