BEGIN:VCALENDAR
VERSION:2.0
PRODID:-//Käerjeng - ECPv6.15.17.1//NONSGML v1.0//EN
CALSCALE:GREGORIAN
METHOD:PUBLISH
X-WR-CALNAME:Käerjeng
X-ORIGINAL-URL:https://www.kaerjeng.lu
X-WR-CALDESC:Évènements pour Käerjeng
REFRESH-INTERVAL;VALUE=DURATION:PT1H
X-Robots-Tag:noindex
X-PUBLISHED-TTL:PT1H
BEGIN:VTIMEZONE
TZID:Europe/Luxembourg
BEGIN:DAYLIGHT
TZOFFSETFROM:+0100
TZOFFSETTO:+0200
TZNAME:CEST
DTSTART:20210328T010000
END:DAYLIGHT
BEGIN:STANDARD
TZOFFSETFROM:+0200
TZOFFSETTO:+0100
TZNAME:CET
DTSTART:20211031T010000
END:STANDARD
BEGIN:DAYLIGHT
TZOFFSETFROM:+0100
TZOFFSETTO:+0200
TZNAME:CEST
DTSTART:20220327T010000
END:DAYLIGHT
BEGIN:STANDARD
TZOFFSETFROM:+0200
TZOFFSETTO:+0100
TZNAME:CET
DTSTART:20221030T010000
END:STANDARD
BEGIN:DAYLIGHT
TZOFFSETFROM:+0100
TZOFFSETTO:+0200
TZNAME:CEST
DTSTART:20230326T010000
END:DAYLIGHT
BEGIN:STANDARD
TZOFFSETFROM:+0200
TZOFFSETTO:+0100
TZNAME:CET
DTSTART:20231029T010000
END:STANDARD
END:VTIMEZONE
BEGIN:VEVENT
DTSTART;TZID=Europe/Luxembourg:20220302T110000
DTEND;TZID=Europe/Luxembourg:20220302T140000
DTSTAMP:20260424T131107
CREATED:20220125T101520Z
LAST-MODIFIED:20220210T105231Z
UID:10000786-1646218800-1646229600@www.kaerjeng.lu
SUMMARY:Gebake Fësch - Harmonie Kéinzig
DESCRIPTION:
URL:https://www.kaerjeng.lu/evenement/gebake-fesch-harmonie-keinzig/
LOCATION:Clemency – Brasserie Sioux
CATEGORIES:Agenda
ATTACH;FMTTYPE=image/jpeg:https://www.kaerjeng.lu/wp-content/uploads/2022/02/Fësch-Äschermëttwoch-2022.jpg
END:VEVENT
BEGIN:VEVENT
DTSTART;TZID=Europe/Luxembourg:20220305T170000
DTEND;TZID=Europe/Luxembourg:20220305T230000
DTSTAMP:20260424T131107
CREATED:20220125T101744Z
LAST-MODIFIED:20220202T103447Z
UID:10000788-1646499600-1646521200@www.kaerjeng.lu
SUMMARY:Festival du feu - Esch2022
DESCRIPTION:
URL:https://www.kaerjeng.lu/evenement/festival-du-feu-esch2022/
LOCATION:Fingig
CATEGORIES:Agenda
ATTACH;FMTTYPE=image/jpeg:https://www.kaerjeng.lu/wp-content/uploads/2021/12/fest-feu-top.jpg
END:VEVENT
BEGIN:VEVENT
DTSTART;TZID=Europe/Luxembourg:20220306T170000
DTEND;TZID=Europe/Luxembourg:20220306T230000
DTSTAMP:20260424T131107
CREATED:20220202T103618Z
LAST-MODIFIED:20220202T103750Z
UID:10000798-1646586000-1646607600@www.kaerjeng.lu
SUMMARY:Festival du feu - Esch2022
DESCRIPTION:
URL:https://www.kaerjeng.lu/evenement/festival-du-feu-esch2022-2/
LOCATION:Fingig
CATEGORIES:Agenda
ATTACH;FMTTYPE=image/jpeg:https://www.kaerjeng.lu/wp-content/uploads/2021/12/fest-feu-top.jpg
END:VEVENT
BEGIN:VEVENT
DTSTART;TZID=Europe/Luxembourg:20220308T080000
DTEND;TZID=Europe/Luxembourg:20220308T120000
DTSTAMP:20260424T131107
CREATED:20220125T102634Z
LAST-MODIFIED:20220125T102634Z
UID:10000790-1646726400-1646740800@www.kaerjeng.lu
SUMMARY:Kleedersammlung - Aide à l'enfance handicapée
DESCRIPTION:
URL:https://www.kaerjeng.lu/evenement/kleedersammlung-aide-a-lenfance-handicapee/
CATEGORIES:Agenda
ATTACH;FMTTYPE=image/jpeg:https://www.kaerjeng.lu/wp-content/uploads/2020/10/event.jpg
END:VEVENT
BEGIN:VEVENT
DTSTART;TZID=Europe/Luxembourg:20220311T100000
DTEND;TZID=Europe/Luxembourg:20220311T180000
DTSTAMP:20260424T131107
CREATED:20220202T104018Z
LAST-MODIFIED:20220307T082011Z
UID:10000800-1646992800-1647021600@www.kaerjeng.lu
SUMMARY:Luxembourg in Dubai
DESCRIPTION:
URL:https://www.kaerjeng.lu/evenement/luxembourg-in-dubai/
LOCATION:Käerjenger Treff\, 54c\, avenue de Luxembourg\, Bascharage\, Luxembourg
CATEGORIES:Agenda
ATTACH;FMTTYPE=image/jpeg:https://www.kaerjeng.lu/wp-content/uploads/2022/03/Expo-Dubaï-Affiche-Internet.jpg
END:VEVENT
BEGIN:VEVENT
DTSTART;TZID=Europe/Luxembourg:20220312T080000
DTEND;TZID=Europe/Luxembourg:20220312T170000
DTSTAMP:20260424T131107
CREATED:20220202T104136Z
LAST-MODIFIED:20220307T081931Z
UID:10000802-1647072000-1647104400@www.kaerjeng.lu
SUMMARY:Luxembourg in Dubai
DESCRIPTION:
URL:https://www.kaerjeng.lu/evenement/luxembourg-in-dubai-2/
LOCATION:Käerjenger Treff\, 54c\, avenue de Luxembourg\, Bascharage\, Luxembourg
CATEGORIES:Agenda
ATTACH;FMTTYPE=image/jpeg:https://www.kaerjeng.lu/wp-content/uploads/2022/03/Expo-Dubaï-Affiche-Internet.jpg
END:VEVENT
BEGIN:VEVENT
DTSTART;TZID=Europe/Luxembourg:20220312T200000
DTEND;TZID=Europe/Luxembourg:20220312T230000
DTSTAMP:20260424T131107
CREATED:20220125T103131Z
LAST-MODIFIED:20220302T141812Z
UID:10000792-1647115200-1647126000@www.kaerjeng.lu
SUMMARY:Gala Concert - Harmonie Municipale Bascharage
DESCRIPTION:
URL:https://www.kaerjeng.lu/evenement/gala-concert-harmonie-municipale-bascharage/
LOCATION:Käerjenger Treff\, 54c\, avenue de Luxembourg\, Bascharage\, Luxembourg
CATEGORIES:Agenda
ATTACH;FMTTYPE=image/jpeg:https://www.kaerjeng.lu/wp-content/uploads/2022/03/Gala-Conncert-2022.jpg
END:VEVENT
BEGIN:VEVENT
DTSTART;TZID=Europe/Luxembourg:20220313T100000
DTEND;TZID=Europe/Luxembourg:20220313T180000
DTSTAMP:20260424T131107
CREATED:20220202T104230Z
LAST-MODIFIED:20220307T081909Z
UID:10000909-1647165600-1647194400@www.kaerjeng.lu
SUMMARY:Luxembourg in Dubai
DESCRIPTION:
URL:https://www.kaerjeng.lu/evenement/luxembourg-in-dubai-3/
LOCATION:Käerjenger Treff\, 54c\, avenue de Luxembourg\, Bascharage\, Luxembourg
CATEGORIES:Agenda
ATTACH;FMTTYPE=image/jpeg:https://www.kaerjeng.lu/wp-content/uploads/2022/03/Expo-Dubaï-Affiche-Internet.jpg
END:VEVENT
BEGIN:VEVENT
DTSTART;TZID=Europe/Luxembourg:20220313T150000
DTEND;TZID=Europe/Luxembourg:20220313T180000
DTSTAMP:20260424T131107
CREATED:20220125T103340Z
LAST-MODIFIED:20220217T103945Z
UID:10000794-1647183600-1647194400@www.kaerjeng.lu
SUMMARY:Youth in Concert - D'Frënn vun der Uewerkäerjenger Musek
DESCRIPTION:
URL:https://www.kaerjeng.lu/evenement/youth-in-concert-dfrenn-vun-der-uewerkaerjenger-musek/
LOCATION:Hautcharage – Centre Polyvalent
CATEGORIES:Agenda
ATTACH;FMTTYPE=image/jpeg:https://www.kaerjeng.lu/wp-content/uploads/2022/02/Youth-in-Concert-2022.jpg
END:VEVENT
BEGIN:VEVENT
DTSTART;TZID=Europe/Luxembourg:20220314T193000
DTEND;TZID=Europe/Luxembourg:20220314T203000
DTSTAMP:20260424T131107
CREATED:20220202T104339Z
LAST-MODIFIED:20220202T104530Z
UID:10000911-1647286200-1647289800@www.kaerjeng.lu
SUMMARY:Assemblée générale - Vereinsentente Kéinzig
DESCRIPTION:
URL:https://www.kaerjeng.lu/evenement/assemblee-generale-vereinsentente-keinzig/
LOCATION:Clemency – Salle des Fêtes
CATEGORIES:Agenda
ATTACH;FMTTYPE=image/jpeg:https://www.kaerjeng.lu/wp-content/uploads/2021/08/AG.jpg
END:VEVENT
BEGIN:VEVENT
DTSTART;TZID=Europe/Luxembourg:20220318T190000
DTEND;TZID=Europe/Luxembourg:20220318T210000
DTSTAMP:20260424T131107
CREATED:20220202T104459Z
LAST-MODIFIED:20220314T124322Z
UID:10000913-1647630000-1647637200@www.kaerjeng.lu
SUMMARY:Assemblée générale - Fotosfrënn Käerjeng
DESCRIPTION:
URL:https://www.kaerjeng.lu/evenement/assemblee-generale-fotosfrenn-kaerjeng/
LOCATION:Hautcharage – Aal Schoul
CATEGORIES:Agenda
ATTACH;FMTTYPE=image/jpeg:https://www.kaerjeng.lu/wp-content/uploads/2021/08/AG.jpg
END:VEVENT
BEGIN:VEVENT
DTSTART;TZID=Europe/Luxembourg:20220318T200000
DTEND;TZID=Europe/Luxembourg:20220318T230000
DTSTAMP:20260424T131107
CREATED:20220202T121959Z
LAST-MODIFIED:20220202T122113Z
UID:10000915-1647633600-1647644400@www.kaerjeng.lu
SUMMARY:Theaterowend	- Harmonie Kéinzig
DESCRIPTION:
URL:https://www.kaerjeng.lu/evenement/theaterowend-harmonie-keinzig-3/
LOCATION:Clemency – Salle des Fêtes
CATEGORIES:Agenda
ATTACH;FMTTYPE=image/jpeg:https://www.kaerjeng.lu/wp-content/uploads/2020/10/event.jpg
END:VEVENT
BEGIN:VEVENT
DTSTART;TZID=Europe/Luxembourg:20220319T200000
DTEND;TZID=Europe/Luxembourg:20220319T230000
DTSTAMP:20260424T131107
CREATED:20220202T122231Z
LAST-MODIFIED:20220202T122231Z
UID:10000917-1647720000-1647730800@www.kaerjeng.lu
SUMMARY:Theaterowend	- Harmonie Kéinzig
DESCRIPTION:
URL:https://www.kaerjeng.lu/evenement/theaterowend-harmonie-keinzig-4/
LOCATION:Clemency – Salle des Fêtes
CATEGORIES:Agenda
ATTACH;FMTTYPE=image/jpeg:https://www.kaerjeng.lu/wp-content/uploads/2020/10/event.jpg
END:VEVENT
BEGIN:VEVENT
DTSTART;TZID=Europe/Luxembourg:20220322T190000
DTEND;TZID=Europe/Luxembourg:20220322T200000
DTSTAMP:20260424T131107
CREATED:20220202T122319Z
LAST-MODIFIED:20220202T122337Z
UID:10000919-1647975600-1647979200@www.kaerjeng.lu
SUMMARY:Assemblée générale - Käerjeng Hëlleft
DESCRIPTION:
URL:https://www.kaerjeng.lu/evenement/assemblee-generale-kaerjeng-helleft/
LOCATION:Käerjenger Treff\, 54c\, avenue de Luxembourg\, Bascharage\, Luxembourg
CATEGORIES:Agenda
ATTACH;FMTTYPE=image/jpeg:https://www.kaerjeng.lu/wp-content/uploads/2021/08/AG.jpg
END:VEVENT
BEGIN:VEVENT
DTSTART;TZID=Europe/Luxembourg:20220324T193000
DTEND;TZID=Europe/Luxembourg:20220324T213000
DTSTAMP:20260424T131107
CREATED:20220310T091914Z
LAST-MODIFIED:20220314T124527Z
UID:10000934-1648150200-1648157400@www.kaerjeng.lu
SUMMARY:Assemblée générale - CSV Käerjeng
DESCRIPTION:
URL:https://www.kaerjeng.lu/evenement/assemblee-generale-csv-kaerjeng/
LOCATION:Käerjenger Treff\, 54c\, avenue de Luxembourg\, Bascharage\, Luxembourg
CATEGORIES:Agenda
ATTACH;FMTTYPE=image/jpeg:https://www.kaerjeng.lu/wp-content/uploads/2021/08/AG.jpg
END:VEVENT
BEGIN:VEVENT
DTSTART;TZID=Europe/Luxembourg:20220325T160000
DTEND;TZID=Europe/Luxembourg:20220325T170000
DTSTAMP:20260424T131107
CREATED:20220202T122528Z
LAST-MODIFIED:20220202T122528Z
UID:10000921-1648224000-1648227600@www.kaerjeng.lu
SUMMARY:Assemblée générale - Amis de la Fleur Käerjeng
DESCRIPTION:
URL:https://www.kaerjeng.lu/evenement/assemblee-generale-amis-de-la-fleur-kaerjeng/
LOCATION:Käerjenger Treff\, 54c\, avenue de Luxembourg\, Bascharage\, Luxembourg
CATEGORIES:Agenda
ATTACH;FMTTYPE=image/jpeg:https://www.kaerjeng.lu/wp-content/uploads/2021/08/AG.jpg
END:VEVENT
BEGIN:VEVENT
DTSTART;TZID=Europe/Luxembourg:20220325T200000
DTEND;TZID=Europe/Luxembourg:20220325T230000
DTSTAMP:20260424T131107
CREATED:20220202T122644Z
LAST-MODIFIED:20220202T122644Z
UID:10000923-1648238400-1648249200@www.kaerjeng.lu
SUMMARY:Theaterowend - Harmonie Kéinzig
DESCRIPTION:
URL:https://www.kaerjeng.lu/evenement/theaterowend-harmonie-keinzig-5/
LOCATION:Clemency – Salle des Fêtes
CATEGORIES:Agenda
ATTACH;FMTTYPE=image/jpeg:https://www.kaerjeng.lu/wp-content/uploads/2020/10/event.jpg
END:VEVENT
BEGIN:VEVENT
DTSTART;TZID=Europe/Luxembourg:20220326T090000
DTEND;TZID=Europe/Luxembourg:20220326T120000
DTSTAMP:20260424T131107
CREATED:20220202T122805Z
LAST-MODIFIED:20220321T101930Z
UID:10000925-1648285200-1648296000@www.kaerjeng.lu
SUMMARY:Fréijoersbotz - Ëmweltkommissioun
DESCRIPTION:
URL:https://www.kaerjeng.lu/evenement/grouss-botz-emweltkommissioun-2/
LOCATION:Bascharage – Um Dribbel
CATEGORIES:Agenda
ATTACH;FMTTYPE=image/jpeg:https://www.kaerjeng.lu/wp-content/uploads/2022/03/Freijoersbotz.jpg
END:VEVENT
BEGIN:VEVENT
DTSTART;TZID=Europe/Luxembourg:20220326T193000
DTEND;TZID=Europe/Luxembourg:20220326T203000
DTSTAMP:20260424T131107
CREATED:20220202T123120Z
LAST-MODIFIED:20220202T124741Z
UID:10000927-1648323000-1648326600@www.kaerjeng.lu
SUMMARY:Assemblée générale - Club des jeunes Kënzeg
DESCRIPTION:
URL:https://www.kaerjeng.lu/evenement/assemblee-generale-club-des-jeunes-kenzeg/
LOCATION:Clemency – Brasserie Op der Gare
CATEGORIES:Agenda
ATTACH;FMTTYPE=image/jpeg:https://www.kaerjeng.lu/wp-content/uploads/2021/08/AG.jpg
END:VEVENT
BEGIN:VEVENT
DTSTART;TZID=Europe/Luxembourg:20220326T200000
DTEND;TZID=Europe/Luxembourg:20220326T230000
DTSTAMP:20260424T131107
CREATED:20220202T123224Z
LAST-MODIFIED:20220202T123224Z
UID:10000928-1648324800-1648335600@www.kaerjeng.lu
SUMMARY:Theaterowend	- Harmonie Kéinzig
DESCRIPTION:
URL:https://www.kaerjeng.lu/evenement/theaterowend-harmonie-keinzig-6/
LOCATION:Clemency – Salle des Fêtes
CATEGORIES:Agenda
ATTACH;FMTTYPE=image/jpeg:https://www.kaerjeng.lu/wp-content/uploads/2020/10/event.jpg
END:VEVENT
BEGIN:VEVENT
DTSTART;TZID=Europe/Luxembourg:20220327T090000
DTEND;TZID=Europe/Luxembourg:20220327T170000
DTSTAMP:20260424T131107
CREATED:20220202T123725Z
LAST-MODIFIED:20220307T081832Z
UID:10000929-1648371600-1648400400@www.kaerjeng.lu
SUMMARY:Nationalkongress - Gaart an Heem Uewerkäerjeng
DESCRIPTION:
URL:https://www.kaerjeng.lu/evenement/nationalkongress-gaart-an-heem-uewerkaerjeng/
LOCATION:Käerjenger Treff\, 54c\, avenue de Luxembourg\, Bascharage\, Luxembourg
CATEGORIES:Agenda
ATTACH;FMTTYPE=image/jpeg:https://www.kaerjeng.lu/wp-content/uploads/2022/03/GAH-Nationalkongress.jpg
END:VEVENT
BEGIN:VEVENT
DTSTART;TZID=Europe/Luxembourg:20220327T110000
DTEND;TZID=Europe/Luxembourg:20220327T120000
DTSTAMP:20260424T131107
CREATED:20220202T124012Z
LAST-MODIFIED:20220202T124012Z
UID:10000930-1648378800-1648382400@www.kaerjeng.lu
SUMMARY:Assemblée générale - PlaymoFrënn
DESCRIPTION:
URL:https://www.kaerjeng.lu/evenement/assemblee-generale-playmofrenn-2/
LOCATION:Fingig – Salle des Fêtes
CATEGORIES:Agenda
ATTACH;FMTTYPE=image/jpeg:https://www.kaerjeng.lu/wp-content/uploads/2021/08/AG.jpg
END:VEVENT
BEGIN:VEVENT
DTSTART;TZID=Europe/Luxembourg:20220327T160000
DTEND;TZID=Europe/Luxembourg:20220327T180000
DTSTAMP:20260424T131107
CREATED:20220317T153759Z
LAST-MODIFIED:20220317T153759Z
UID:10000945-1648396800-1648404000@www.kaerjeng.lu
SUMMARY:Assemblée générale - Gaart an Heem Uewerkäerjeng
DESCRIPTION:
URL:https://www.kaerjeng.lu/evenement/assemblee-generale-gaart-an-heem-uewerkaerjeng/
LOCATION:Käerjenger Treff\, 54c\, avenue de Luxembourg\, Bascharage\, Luxembourg
CATEGORIES:Agenda
ATTACH;FMTTYPE=image/jpeg:https://www.kaerjeng.lu/wp-content/uploads/2021/08/AG.jpg
END:VEVENT
END:VCALENDAR