BEGIN:VCALENDAR
VERSION:2.0
PRODID:-//Käerjeng - ECPv6.15.17.1//NONSGML v1.0//EN
CALSCALE:GREGORIAN
METHOD:PUBLISH
X-WR-CALNAME:Käerjeng
X-ORIGINAL-URL:https://www.kaerjeng.lu
X-WR-CALDESC:Évènements pour Käerjeng
REFRESH-INTERVAL;VALUE=DURATION:PT1H
X-Robots-Tag:noindex
X-PUBLISHED-TTL:PT1H
BEGIN:VTIMEZONE
TZID:Europe/Luxembourg
BEGIN:DAYLIGHT
TZOFFSETFROM:+0100
TZOFFSETTO:+0200
TZNAME:CEST
DTSTART:20200329T010000
END:DAYLIGHT
BEGIN:STANDARD
TZOFFSETFROM:+0200
TZOFFSETTO:+0100
TZNAME:CET
DTSTART:20201025T010000
END:STANDARD
BEGIN:DAYLIGHT
TZOFFSETFROM:+0100
TZOFFSETTO:+0200
TZNAME:CEST
DTSTART:20210328T010000
END:DAYLIGHT
BEGIN:STANDARD
TZOFFSETFROM:+0200
TZOFFSETTO:+0100
TZNAME:CET
DTSTART:20211031T010000
END:STANDARD
BEGIN:DAYLIGHT
TZOFFSETFROM:+0100
TZOFFSETTO:+0200
TZNAME:CEST
DTSTART:20220327T010000
END:DAYLIGHT
BEGIN:STANDARD
TZOFFSETFROM:+0200
TZOFFSETTO:+0100
TZNAME:CET
DTSTART:20221030T010000
END:STANDARD
END:VTIMEZONE
BEGIN:VEVENT
DTSTART;TZID=Europe/Luxembourg:20211106T140000
DTEND;TZID=Europe/Luxembourg:20211106T170000
DTSTAMP:20260424T195432
CREATED:20211008T144130Z
LAST-MODIFIED:20211027T120122Z
UID:10000745-1636207200-1636218000@www.kaerjeng.lu
SUMMARY:Themendag "prévention des addictions" - Cohésion sociale
DESCRIPTION:
URL:https://www.kaerjeng.lu/evenement/themendag-prevention-des-addictions-cohesion-sociale/
LOCATION:Käerjenger Treff\, 54c\, avenue de Luxembourg\, Bascharage\, Luxembourg
CATEGORIES:Agenda
ATTACH;FMTTYPE=image/jpeg:https://www.kaerjeng.lu/wp-content/uploads/2021/10/cover-internet-site.jpg
END:VEVENT
BEGIN:VEVENT
DTSTART;TZID=Europe/Luxembourg:20211110T200000
DTEND;TZID=Europe/Luxembourg:20211110T230000
DTSTAMP:20260424T195432
CREATED:20211004T144204Z
LAST-MODIFIED:20211004T144741Z
UID:10000852-1636574400-1636585200@www.kaerjeng.lu
SUMMARY:Makadammen - Harmonie Clemency
DESCRIPTION:
URL:https://www.kaerjeng.lu/evenement/makadammen-harmonie-clemency/
LOCATION:Käerjenger Treff\, 54c\, avenue de Luxembourg\, Bascharage\, Luxembourg
CATEGORIES:Agenda
ATTACH;FMTTYPE=image/jpeg:https://www.kaerjeng.lu/wp-content/uploads/2021/10/Makadammen.jpg
END:VEVENT
BEGIN:VEVENT
DTSTART;TZID=Europe/Luxembourg:20211113T200000
DTEND;TZID=Europe/Luxembourg:20211113T220000
DTSTAMP:20260424T195432
CREATED:20211019T115353Z
LAST-MODIFIED:20211110T131824Z
UID:10000750-1636833600-1636840800@www.kaerjeng.lu
SUMMARY:Cäcilieconcert - Harmonie Municipale Bascharage
DESCRIPTION:
URL:https://www.kaerjeng.lu/evenement/cacilieconcert-harmonie-municipale-bascharage/
LOCATION:Käerjenger Treff\, 54c\, avenue de Luxembourg\, Bascharage\, Luxembourg
CATEGORIES:Agenda
ATTACH;FMTTYPE=image/jpeg:https://www.kaerjeng.lu/wp-content/uploads/2021/11/Cacilieconcert-131021.jpg
END:VEVENT
BEGIN:VEVENT
DTSTART;TZID=Europe/Luxembourg:20211114T140000
DTEND;TZID=Europe/Luxembourg:20211114T180000
DTSTAMP:20260424T195432
CREATED:20211019T115840Z
LAST-MODIFIED:20211019T115840Z
UID:10000752-1636898400-1636912800@www.kaerjeng.lu
SUMMARY:Spillnomëtteg - Elterevereenegung Kéinzig
DESCRIPTION:
URL:https://www.kaerjeng.lu/evenement/spillnometteg-elterevereenegung-keinzig/
LOCATION:Clemency – Salle des Fêtes
CATEGORIES:Agenda
ATTACH;FMTTYPE=image/jpeg:https://www.kaerjeng.lu/wp-content/uploads/2020/10/event.jpg
END:VEVENT
BEGIN:VEVENT
DTSTART;TZID=Europe/Luxembourg:20211115T190000
DTEND;TZID=Europe/Luxembourg:20211115T210000
DTSTAMP:20260424T195432
CREATED:20211019T120031Z
LAST-MODIFIED:20211019T120031Z
UID:10000754-1637002800-1637010000@www.kaerjeng.lu
SUMMARY:Assemblée générale - Elterevereenegung Kéinzig
DESCRIPTION:
URL:https://www.kaerjeng.lu/evenement/assemblee-generale-elterevereenegung-keinzig/
LOCATION:Clemency – Salle des Fêtes
CATEGORIES:Agenda
ATTACH;FMTTYPE=image/jpeg:https://www.kaerjeng.lu/wp-content/uploads/2020/10/event.jpg
END:VEVENT
BEGIN:VEVENT
DTSTART;TZID=Europe/Luxembourg:20211117T190000
DTEND;TZID=Europe/Luxembourg:20211117T210000
DTSTAMP:20260424T195432
CREATED:20211019T121642Z
LAST-MODIFIED:20211115T155955Z
UID:10000756-1637175600-1637182800@www.kaerjeng.lu
SUMMARY:Vernissage Salon d'auteurs - Fotosfrënn Käerjeng
DESCRIPTION:
URL:https://www.kaerjeng.lu/evenement/vernissage-salon-dauteurs-fotosfrenn-kaerjeng/
LOCATION:Käerjenger Treff\, 54c\, avenue de Luxembourg\, Bascharage\, Luxembourg
CATEGORIES:Agenda
END:VEVENT
BEGIN:VEVENT
DTSTART;TZID=Europe/Luxembourg:20211117T193000
DTEND;TZID=Europe/Luxembourg:20211117T213000
DTSTAMP:20260424T195432
CREATED:20211105T081617Z
LAST-MODIFIED:20211116T121958Z
UID:10000857-1637177400-1637184600@www.kaerjeng.lu
SUMMARY:Assemblée générale – BBC Hedgehogs
DESCRIPTION:
URL:https://www.kaerjeng.lu/evenement/assemblee-generale-bbc-hedgehogs/
LOCATION:Bascharage – Op Acker
CATEGORIES:Agenda
ATTACH;FMTTYPE=image/jpeg:https://www.kaerjeng.lu/wp-content/uploads/2020/10/event.jpg
END:VEVENT
BEGIN:VEVENT
DTSTART;TZID=Europe/Luxembourg:20211118T193000
DTEND;TZID=Europe/Luxembourg:20211118T230000
DTSTAMP:20260424T195432
CREATED:20211019T122626Z
LAST-MODIFIED:20211116T125352Z
UID:10000758-1637263800-1637276400@www.kaerjeng.lu
SUMMARY:Déckkäpp on Tour - Käerjenger Theater
DESCRIPTION:
URL:https://www.kaerjeng.lu/evenement/deckkapp-on-tour-kaerjenger-theater/
LOCATION:Käerjenger Treff\, 54c\, avenue de Luxembourg\, Bascharage\, Luxembourg
CATEGORIES:Agenda
END:VEVENT
BEGIN:VEVENT
DTSTART;TZID=Europe/Luxembourg:20211119T190000
DTEND;TZID=Europe/Luxembourg:20211119T210000
DTSTAMP:20260424T195432
CREATED:20211105T081843Z
LAST-MODIFIED:20211105T081843Z
UID:10000858-1637348400-1637355600@www.kaerjeng.lu
SUMMARY:Assemblée générale - Cercle Culturel Claus Cito
DESCRIPTION:
URL:https://www.kaerjeng.lu/evenement/assemblee-generale-cercle-culturel-claus-cito/
LOCATION:Bascharage – Musekschoul
CATEGORIES:Agenda
ATTACH;FMTTYPE=image/jpeg:https://www.kaerjeng.lu/wp-content/uploads/2020/10/event.jpg
END:VEVENT
BEGIN:VEVENT
DTSTART;TZID=Europe/Luxembourg:20211120T140000
DTEND;TZID=Europe/Luxembourg:20211121T180000
DTSTAMP:20260424T195432
CREATED:20211117T093253Z
LAST-MODIFIED:20211117T093253Z
UID:10000888-1637416800-1637517600@www.kaerjeng.lu
SUMMARY:Wanter Bazar - Guiden a Scouten Käerjeng
DESCRIPTION:
URL:https://www.kaerjeng.lu/evenement/wanter-bazar-guiden-a-scouten-kaerjeng/
LOCATION:Clemency – Scoutshome\, 1\, rue de la Gare\, Clemency\, 4966\, Luxembourg
CATEGORIES:Agenda
ATTACH;FMTTYPE=image/jpeg:https://www.kaerjeng.lu/wp-content/uploads/2021/11/Wanterbasar-2021.jpg
END:VEVENT
BEGIN:VEVENT
DTSTART;TZID=Europe/Luxembourg:20211120T183000
DTEND;TZID=Europe/Luxembourg:20211120T213000
DTSTAMP:20260424T195432
CREATED:20211110T132124Z
LAST-MODIFIED:20211110T132132Z
UID:10000871-1637433000-1637443800@www.kaerjeng.lu
SUMMARY:Assemblée générale - Fun Divers
DESCRIPTION:
URL:https://www.kaerjeng.lu/evenement/assemblee-generale-fun-divers/
LOCATION:Fingig – Féngiger Stuff
CATEGORIES:Agenda
ATTACH;FMTTYPE=image/jpeg:https://www.kaerjeng.lu/wp-content/uploads/2020/10/event.jpg
END:VEVENT
BEGIN:VEVENT
DTSTART;TZID=Europe/Luxembourg:20211121T150000
DTEND;TZID=Europe/Luxembourg:20211121T170000
DTSTAMP:20260424T195432
CREATED:20211105T082521Z
LAST-MODIFIED:20211105T082521Z
UID:10000859-1637506800-1637514000@www.kaerjeng.lu
SUMMARY:Assemblée générale - Gaart an Heem Clemency
DESCRIPTION:
URL:https://www.kaerjeng.lu/evenement/assemblee-generale-gaart-an-heem-clemency/
LOCATION:Clemency – Salle des Fêtes
CATEGORIES:Agenda
ATTACH;FMTTYPE=image/jpeg:https://www.kaerjeng.lu/wp-content/uploads/2020/10/event.jpg
END:VEVENT
BEGIN:VEVENT
DTSTART;TZID=Europe/Luxembourg:20211123T190000
DTEND;TZID=Europe/Luxembourg:20211123T210000
DTSTAMP:20260424T195432
CREATED:20211105T082630Z
LAST-MODIFIED:20211105T082630Z
UID:10000860-1637694000-1637701200@www.kaerjeng.lu
SUMMARY:Assemblée générale - Käerjenger Theater
DESCRIPTION:
URL:https://www.kaerjeng.lu/evenement/assemblee-generale-kaerjenger-theater/
LOCATION:Käerjenger Treff\, 54c\, avenue de Luxembourg\, Bascharage\, Luxembourg
CATEGORIES:Agenda
ATTACH;FMTTYPE=image/jpeg:https://www.kaerjeng.lu/wp-content/uploads/2020/10/event.jpg
END:VEVENT
BEGIN:VEVENT
DTSTART;TZID=Europe/Luxembourg:20211126T190000
DTEND;TZID=Europe/Luxembourg:20211127T010000
DTSTAMP:20260424T195432
CREATED:20211105T082805Z
LAST-MODIFIED:20211123T131142Z
UID:10000861-1637953200-1637974800@www.kaerjeng.lu
SUMMARY:Ski Opening - Käerjenger Karneval Gesellschaft
DESCRIPTION:
URL:https://www.kaerjeng.lu/evenement/ski-opening-kaerjenger-karneval-gesellschaft/
LOCATION:Clemency – Salle des Fêtes
CATEGORIES:Agenda
END:VEVENT
BEGIN:VEVENT
DTSTART;TZID=Europe/Luxembourg:20211127T170000
DTEND;TZID=Europe/Luxembourg:20211127T210000
DTSTAMP:20260424T195432
CREATED:20211110T132812Z
LAST-MODIFIED:20211110T132812Z
UID:10000873-1638032400-1638046800@www.kaerjeng.lu
SUMMARY:25 Joer Saba - Jugendtreff Käerjeng
DESCRIPTION:
URL:https://www.kaerjeng.lu/evenement/25-joer-saba-jugendtreff-kaerjeng/
LOCATION:Bascharage Jugendtreff
CATEGORIES:Agenda
ATTACH;FMTTYPE=image/jpeg:https://www.kaerjeng.lu/wp-content/uploads/2020/10/event.jpg
END:VEVENT
BEGIN:VEVENT
DTSTART;TZID=Europe/Luxembourg:20211127T200000
DTEND;TZID=Europe/Luxembourg:20211127T230000
DTSTAMP:20260424T195432
CREATED:20211105T082912Z
LAST-MODIFIED:20211115T155913Z
UID:10000862-1638043200-1638054000@www.kaerjeng.lu
SUMMARY:Wanterconcert - Harmonie Hautcharage
DESCRIPTION:
URL:https://www.kaerjeng.lu/evenement/wanterconcert-harmonie-hautcharage/
LOCATION:Käerjenger Treff\, 54c\, avenue de Luxembourg\, Bascharage\, Luxembourg
CATEGORIES:Agenda
END:VEVENT
END:VCALENDAR