BEGIN:VCALENDAR
VERSION:2.0
PRODID:-//Käerjeng - ECPv6.15.17.1//NONSGML v1.0//EN
CALSCALE:GREGORIAN
METHOD:PUBLISH
X-WR-CALNAME:Käerjeng
X-ORIGINAL-URL:https://www.kaerjeng.lu
X-WR-CALDESC:Évènements pour Käerjeng
REFRESH-INTERVAL;VALUE=DURATION:PT1H
X-Robots-Tag:noindex
X-PUBLISHED-TTL:PT1H
BEGIN:VTIMEZONE
TZID:Europe/Luxembourg
BEGIN:DAYLIGHT
TZOFFSETFROM:+0100
TZOFFSETTO:+0200
TZNAME:CEST
DTSTART:20250330T010000
END:DAYLIGHT
BEGIN:STANDARD
TZOFFSETFROM:+0200
TZOFFSETTO:+0100
TZNAME:CET
DTSTART:20251026T010000
END:STANDARD
BEGIN:DAYLIGHT
TZOFFSETFROM:+0100
TZOFFSETTO:+0200
TZNAME:CEST
DTSTART:20260329T010000
END:DAYLIGHT
BEGIN:STANDARD
TZOFFSETFROM:+0200
TZOFFSETTO:+0100
TZNAME:CET
DTSTART:20261025T010000
END:STANDARD
BEGIN:DAYLIGHT
TZOFFSETFROM:+0100
TZOFFSETTO:+0200
TZNAME:CEST
DTSTART:20270328T010000
END:DAYLIGHT
BEGIN:STANDARD
TZOFFSETFROM:+0200
TZOFFSETTO:+0100
TZNAME:CET
DTSTART:20271031T010000
END:STANDARD
END:VTIMEZONE
BEGIN:VEVENT
DTSTART;TZID=Europe/Luxembourg:20260320T183000
DTEND;TZID=Europe/Luxembourg:20260320T193000
DTSTAMP:20260421T161739
CREATED:20260309T160358Z
LAST-MODIFIED:20260309T160358Z
UID:10001718-1774031400-1774035000@www.kaerjeng.lu
SUMMARY:Assemblée générale - Käerjenger Guiden a Scouten
DESCRIPTION:
URL:https://www.kaerjeng.lu/evenement/assemblee-generale-kaerjenger-guiden-a-scouten-2/
LOCATION:Clemency – Scoutshome\, 1\, rue de la Gare\, Clemency\, 4966\, Luxembourg
CATEGORIES:Agenda
ATTACH;FMTTYPE=image/jpeg:https://www.kaerjeng.lu/wp-content/uploads/2021/08/AG.jpg
END:VEVENT
BEGIN:VEVENT
DTSTART;TZID=Europe/Luxembourg:20260320T190000
DTEND;TZID=Europe/Luxembourg:20260320T210000
DTSTAMP:20260421T161739
CREATED:20251218T104831Z
LAST-MODIFIED:20260313T074940Z
UID:10001614-1774033200-1774040400@www.kaerjeng.lu
SUMMARY:Assemblée générale - Amicale des Marcheurs Bascharage
DESCRIPTION:
URL:https://www.kaerjeng.lu/evenement/assemblee-generale-amis-des-marcheurs-bascharage-4/
LOCATION:Käerjenger Treff\, 54c\, avenue de Luxembourg\, Bascharage\, Luxembourg
CATEGORIES:Agenda
ATTACH;FMTTYPE=image/jpeg:https://www.kaerjeng.lu/wp-content/uploads/2021/08/AG.jpg
END:VEVENT
BEGIN:VEVENT
DTSTART;TZID=Europe/Luxembourg:20260320T193000
DTEND;TZID=Europe/Luxembourg:20260320T230000
DTSTAMP:20260421T161739
CREATED:20251218T105536Z
LAST-MODIFIED:20260205T072646Z
UID:10001619-1774035000-1774047600@www.kaerjeng.lu
SUMMARY:Sketch FU FU - ES Clemency
DESCRIPTION:
URL:https://www.kaerjeng.lu/evenement/sketch-fu-fu-es-clemency/2026-03-20/
LOCATION:Clemency – Salle des Fêtes
CATEGORIES:Agenda
ATTACH;FMTTYPE=image/jpeg:https://www.kaerjeng.lu/wp-content/uploads/2026/02/Sketch-FuFu-2026.jpg
END:VEVENT
END:VCALENDAR