BEGIN:VCALENDAR
VERSION:2.0
PRODID:-//Käerjeng - ECPv5.9.0//NONSGML v1.0//EN
CALSCALE:GREGORIAN
METHOD:PUBLISH
X-WR-CALNAME:Käerjeng
X-ORIGINAL-URL:https://www.kaerjeng.lu
X-WR-CALDESC:évènements pour Käerjeng
BEGIN:VTIMEZONE
TZID:Europe/Luxembourg
BEGIN:DAYLIGHT
TZOFFSETFROM:+0100
TZOFFSETTO:+0200
TZNAME:CEST
DTSTART:20210328T010000
END:DAYLIGHT
BEGIN:STANDARD
TZOFFSETFROM:+0200
TZOFFSETTO:+0100
TZNAME:CET
DTSTART:20211031T010000
END:STANDARD
END:VTIMEZONE
BEGIN:VEVENT
DTSTART;TZID=Europe/Luxembourg:20210912T090000
DTEND;TZID=Europe/Luxembourg:20210912T190000
DTSTAMP:20211011T134819
CREATED:20210713T131836Z
LAST-MODIFIED:20210818T125203Z
UID:20969-1631437200-1631473200@www.kaerjeng.lu
SUMMARY:Grand Prix DT Lénger
DESCRIPTION:
URL:https://www.kaerjeng.lu/evenement/grand-prix-dt-hautcharage/
LOCATION:Bascharage – Op Acker
CATEGORIES:Agenda
ATTACH;FMTTYPE=image/jpeg:https://www.kaerjeng.lu/wp-content/uploads/2021/08/Tennis-de-table.jpg
END:VEVENT
BEGIN:VEVENT
DTSTART;TZID=Europe/Luxembourg:20210912T100000
DTEND;TZID=Europe/Luxembourg:20210912T220000
DTSTAMP:20211011T134819
CREATED:20210812T131730Z
LAST-MODIFIED:20210818T125808Z
UID:21220-1631440800-1631484000@www.kaerjeng.lu
SUMMARY:Jugend-Cup - U.N. Käerjeng'97
DESCRIPTION:
URL:https://www.kaerjeng.lu/evenement/jugend-cup-u-n-kaerjeng97-4/
LOCATION:Bascharage – Dribbel
CATEGORIES:Agenda
ATTACH;FMTTYPE=image/jpeg:https://www.kaerjeng.lu/wp-content/uploads/2021/08/Jugendcup.jpg
END:VEVENT
BEGIN:VEVENT
DTSTART;TZID=Europe/Luxembourg:20210912T170000
DTEND;TZID=Europe/Luxembourg:20210912T190000
DTSTAMP:20211011T134819
CREATED:20210813T142208Z
LAST-MODIFIED:20210831T122027Z
UID:21396-1631466000-1631473200@www.kaerjeng.lu
SUMMARY:EHF Cup - Handball Käerjeng - Vëllaznimi
DESCRIPTION:HBK EHF
URL:https://www.kaerjeng.lu/evenement/ehf-cup-handball-kaerjeng/2021-09-12/
LOCATION:Bascharage – Dribbel
CATEGORIES:Agenda
ATTACH;FMTTYPE=image/jpeg:https://www.kaerjeng.lu/wp-content/uploads/2021/08/Handball.jpg
END:VEVENT
END:VCALENDAR