BEGIN:VCALENDAR
VERSION:2.0
PRODID:-//Käerjeng - ECPv5.8.0//NONSGML v1.0//EN
CALSCALE:GREGORIAN
METHOD:PUBLISH
X-WR-CALNAME:Käerjeng
X-ORIGINAL-URL:https://www.kaerjeng.lu
X-WR-CALDESC:évènements pour Käerjeng
BEGIN:VTIMEZONE
TZID:Europe/Luxembourg
BEGIN:DAYLIGHT
TZOFFSETFROM:+0100
TZOFFSETTO:+0200
TZNAME:CEST
DTSTART:20210328T010000
END:DAYLIGHT
BEGIN:STANDARD
TZOFFSETFROM:+0200
TZOFFSETTO:+0100
TZNAME:CET
DTSTART:20211031T010000
END:STANDARD
END:VTIMEZONE
BEGIN:VEVENT
DTSTART;VALUE=DATE:20210827
DTEND;VALUE=DATE:20210831
DTSTAMP:20210722T083511
CREATED:20210713T130956Z
LAST-MODIFIED:20210713T130956Z
UID:20964-1630022400-1630285199@www.kaerjeng.lu
SUMMARY:Bëschfest - Club des Jeunes Kéinzig
DESCRIPTION:
URL:https://www.kaerjeng.lu/evenement/beschfest-club-des-jeunes-keinzig/
LOCATION:Käerjenger Treff\, 54c\, avenue de Luxembourg\, Bascharage\, Luxembourg
CATEGORIES:Agenda
ATTACH;FMTTYPE=image/jpeg:https://www.kaerjeng.lu/wp-content/uploads/2020/10/event.jpg
END:VEVENT
END:VCALENDAR